BEGIN:VCALENDAR
VERSION:2.0
PRODID:-//wp-events-plugin.com//7.2.3.1//EN
TZID:Europe/Stockholm
X-WR-TIMEZONE:Europe/Stockholm
BEGIN:VEVENT
UID:675@karlstadsbk.se
DTSTART;TZID=Europe/Stockholm:20260520T180000
DTEND;TZID=Europe/Stockholm:20260520T200000
DTSTAMP:20260416T163925Z
URL:https://karlstadsbk.se/events/5397-2026-05-13-2026-05-20/
SUMMARY:Sommarserien
DESCRIPTION:VÄSTRA SVEALANDS BÅGSKYTTEFÖRBUND\nInbjudan till Distriktets
  Sommar-Serie 2026!\nSommaren närmar sig. Enligt önskemål och efter Bes
 lut\, på VSBFs\nÅrsmöte -26 inbjuds Ni alla till: Årets sommar-serie i
  bågskytte\,\nSå här är vårens omgångar tänkta att se ut 2026\, och
  då är NI välkomna.\nLiksom förgående år\, och på valfri plats i N
 ärke och Västmanland kör man\nsamma kväll (eller dag före eller efter
 )\, och NI mailar/ringer in och jag lägger\nsamman resultaten. Alla har t
 yckt det verkar bra\, så varför ändra ett bra\nkoncept? OBS: Helst på 
 min E-post nedan.\nE-post kurt.u.lundgren@telia.com el. Ring 070-6320160 /
  054-874487\n\nOmg. 1 Älvenäs\, Karlsko.\, Nora\, Järnv.\, Ksn. och Arb
 oga on/to dag 6 / 7 maj\nOmg. 2 Kil\, Karlsko.\, Nora\, Järnv.\, Ksn. och
  Arboga on/to dag 13/14 maj\nOmg. 3 Älvenäs\, Karlsko.\, Nora\, Järnv.\
 , Ksn. och Arboga on/to dag 20/21 maj\nOmg. 4 Karlstad\, Karlsko.\, Nora\,
  Järnv.\, Ksn. och Arboga on/to dag 27/28 maj\nOmg. 5 Kil\, Karlsko.\, No
 ra\, Järnv.\, Ksn. och Arboga on/to dag 3 / 4 juni\n\nStart varje gång\,
  helst\, 18\,00. ALLA + arrangören ställer i ordning banan.\nALLA hjälp
 s åt att plocka bort efter tävling. Dubbelt enkelt och Trevligt\n\nOBS: 
 justeringarna i kategorier enl. SBFs Bok 2\, 4.5.1.6\nRond: SBF:s 36 pilsr
 ond Motion på valfritt avstånd o tapet\n50 meter C \, C50\, CU21 80 tape
 t\n40 meter C60\, C21\, CU18 80 tapet\n30 meter B \, R \, R50 \, R60 \, R2
 1\, RU21 \, RU18 \, CU15 80 tapet\n20 meter B21\, B50\, B60\, BU15.BU18\, 
 BU21\, RU15\, RU21open 80 tapet\n20 meter T o L samtliga kategorier 80 tap
 et\n20 meter U13\, samtliga kategorier 122 tapet\nSkytt/ar har rätt att v
 älja på 80 cm 6- eller 10-ringad tapet\, om det råder oenighet\nvid val
  ?\, gäller ALLTID 10-ringad.\n\nStartavgift: 100 kronor för 21 och äld
 re.\n50 kronor för U21 och yngre. Motion\n\nRespektive arrangör behålle
 r alla startavgifterna och ev. inkomster från servering.\nVSBF står pris
 er och diplomDe tre bästa resultaten räknas in i slutresultatet.\nDiplom
  till alla\, som genomför serien (tre resultat).\nPris till alla segrare 
 i varje klass.\nPrisutdelningen sker vid första bästa tillfälle efter s
 erien.\nVÄLKOMNA!
CATEGORIES:Tävling
END:VEVENT
BEGIN:VTIMEZONE
TZID:Europe/Stockholm
X-LIC-LOCATION:Europe/Stockholm
BEGIN:DAYLIGHT
DTSTART:20260329T030000
TZOFFSETFROM:+0100
TZOFFSETTO:+0200
TZNAME:CEST
END:DAYLIGHT
END:VTIMEZONE
END:VCALENDAR