BEGIN:VCALENDAR
VERSION:2.0
PRODID:-//wp-events-plugin.com//7.2.3.1//EN
TZID:Europe/Stockholm
X-WR-TIMEZONE:Europe/Stockholm
BEGIN:VEVENT
UID:678@karlstadsbk.se
DTSTART;TZID=Europe/Stockholm:20260503T110000
DTEND;TZID=Europe/Stockholm:20260503T143000
DTSTAMP:20260417T170419Z
URL:https://karlstadsbk.se/events/at-the-marks-6/
SUMMARY:At the Marks
DESCRIPTION:Per och Leif bjuder ånyo in långbågsskyttar till medeltida b
 ågskytte på Alsters Backa.\n\nSe mer i inbjudan\n\n&nbsp\;
CATEGORIES:Klubbaktivitet,Tävling
LOCATION:Alsters Backa\, Alsters Backa 307\, Karlstad\, 65592\, Sverige
X-APPLE-STRUCTURED-LOCATION;VALUE=URI;X-ADDRESS=Alsters Backa 307\, Karlsta
 d\, 65592\, Sverige;X-APPLE-RADIUS=100;X-TITLE=Alsters Backa:geo:0,0
END:VEVENT
BEGIN:VTIMEZONE
TZID:Europe/Stockholm
X-LIC-LOCATION:Europe/Stockholm
BEGIN:DAYLIGHT
DTSTART:20260329T030000
TZOFFSETFROM:+0100
TZOFFSETTO:+0200
TZNAME:CEST
END:DAYLIGHT
END:VTIMEZONE
END:VCALENDAR