BEGIN:VCALENDAR
VERSION:2.0
PRODID:-//wp-events-plugin.com//7.2.3.1//EN
TZID:Europe/Stockholm
X-WR-TIMEZONE:Europe/Stockholm
BEGIN:VEVENT
UID:670@karlstadsbk.se
DTSTART;TZID=Europe/Stockholm:20260507T190000
DTEND;TZID=Europe/Stockholm:20260507T194500
DTSTAMP:20260415T201207Z
URL:https://karlstadsbk.se/events/informationstraff-for-ungdomar-om-ungdom
 srad/
SUMMARY:Informationsträff för ungdomar om ungdomsråd
DESCRIPTION:Karolina Kasslert\, klubbens kontaktperson på RF-SISU\, berät
 tar för våra ungdomar om vad ett ungdomsråd är\, varför det är vikti
 gt med ungas röster\, hur rådet kan fungera och att de själva får disk
 utera kring vad de i så fall önskar att rådet arbetar med.
CATEGORIES:Information,Klubbaktivitet,Möte,Utbildning
LOCATION:Långenäs\, Långenäsvägen 303\, Karlstad\, 65592\, Sverige
X-APPLE-STRUCTURED-LOCATION;VALUE=URI;X-ADDRESS=Långenäsvägen 303\, Karl
 stad\, 65592\, Sverige;X-APPLE-RADIUS=100;X-TITLE=Långenäs:geo:0,0
END:VEVENT
BEGIN:VTIMEZONE
TZID:Europe/Stockholm
X-LIC-LOCATION:Europe/Stockholm
BEGIN:DAYLIGHT
DTSTART:20260329T030000
TZOFFSETFROM:+0100
TZOFFSETTO:+0200
TZNAME:CEST
END:DAYLIGHT
END:VTIMEZONE
END:VCALENDAR