BEGIN:VCALENDAR
VERSION:2.0
PRODID:-//wp-events-plugin.com//7.2.3.1//EN
TZID:Europe/Stockholm
X-WR-TIMEZONE:Europe/Stockholm
BEGIN:VEVENT
UID:652@karlstadsbk.se
DTSTART;TZID=Europe/Stockholm:20260513T180000
DTEND;TZID=Europe/Stockholm:20260513T193000
DTSTAMP:20260403T124705Z
URL:https://karlstadsbk.se/events/steg-1-nyborjartraning-14-2026-04-30-202
 6-05-07-2026-05-14/
SUMMARY:Steg 1. Nybörjarträning
DESCRIPTION:På torsdagar har vi ”prova på” mellan 18.00-19.30 för un
 gdomar och vuxna som är nybörjare\, men på grund av Kristi Himmelfärds
 dagen är detta pass flyttat till onsdagen den 13 maj.\n\nUtrustning finns
  att låna. Det är gratis att prova på. Ingen anmälan krävs. Det är b
 ara att dyka upp. Efter 3 gånger löses medlemskap om du vill fortsätta 
 i klubben. Eftersom bågarna är stora och det finns viktiga regler att f
 örhålla sig till är åldersgränsen satt till 10 år.\nLäs mer på Tr
 äningssidan för steg 1\n\nVi skjuter utomhus på Långenäs.
CATEGORIES:Träning
LOCATION:Långenäs\, Långenäsvägen 303\, Karlstad\, 65592\, Sverige
X-APPLE-STRUCTURED-LOCATION;VALUE=URI;X-ADDRESS=Långenäsvägen 303\, Karl
 stad\, 65592\, Sverige;X-APPLE-RADIUS=100;X-TITLE=Långenäs:geo:0,0
END:VEVENT
BEGIN:VTIMEZONE
TZID:Europe/Stockholm
X-LIC-LOCATION:Europe/Stockholm
BEGIN:DAYLIGHT
DTSTART:20260329T030000
TZOFFSETFROM:+0100
TZOFFSETTO:+0200
TZNAME:CEST
END:DAYLIGHT
END:VTIMEZONE
END:VCALENDAR