BEGIN:VCALENDAR
VERSION:2.0
PRODID:-//wp-events-plugin.com//7.2.3.1//EN
TZID:Europe/Stockholm
X-WR-TIMEZONE:Europe/Stockholm
BEGIN:VEVENT
UID:671@karlstadsbk.se
DTSTART;TZID=Europe/Stockholm:20260525T180000
DTEND;TZID=Europe/Stockholm:20260525T193000
DTSTAMP:20260416T162023Z
URL:https://karlstadsbk.se/events/styrelsemote-31/
SUMMARY:Styrelsemöte
DESCRIPTION:Styrelsemöte på Långenäs
CATEGORIES:Möte
LOCATION:Långenäs\, Långenäsvägen 303\, Karlstad\, 65592\, Sverige
X-APPLE-STRUCTURED-LOCATION;VALUE=URI;X-ADDRESS=Långenäsvägen 303\, Karl
 stad\, 65592\, Sverige;X-APPLE-RADIUS=100;X-TITLE=Långenäs:geo:0,0
END:VEVENT
BEGIN:VTIMEZONE
TZID:Europe/Stockholm
X-LIC-LOCATION:Europe/Stockholm
BEGIN:DAYLIGHT
DTSTART:20260329T030000
TZOFFSETFROM:+0100
TZOFFSETTO:+0200
TZNAME:CEST
END:DAYLIGHT
END:VTIMEZONE
END:VCALENDAR